BEGIN:VCALENDAR
VERSION:2.0
PRODID:-//Turtle Books - ECPv6.15.20//NONSGML v1.0//EN
CALSCALE:GREGORIAN
METHOD:PUBLISH
X-WR-CALNAME:Turtle Books
X-ORIGINAL-URL:https://turtlebooks.store
X-WR-CALDESC:Events for Turtle Books
REFRESH-INTERVAL;VALUE=DURATION:PT1H
X-Robots-Tag:noindex
X-PUBLISHED-TTL:PT1H
BEGIN:VTIMEZONE
TZID:America/New_York
BEGIN:DAYLIGHT
TZOFFSETFROM:-0500
TZOFFSETTO:-0400
TZNAME:EDT
DTSTART:20250309T070000
END:DAYLIGHT
BEGIN:STANDARD
TZOFFSETFROM:-0400
TZOFFSETTO:-0500
TZNAME:EST
DTSTART:20251102T060000
END:STANDARD
BEGIN:DAYLIGHT
TZOFFSETFROM:-0500
TZOFFSETTO:-0400
TZNAME:EDT
DTSTART:20260308T070000
END:DAYLIGHT
BEGIN:STANDARD
TZOFFSETFROM:-0400
TZOFFSETTO:-0500
TZNAME:EST
DTSTART:20261101T060000
END:STANDARD
BEGIN:DAYLIGHT
TZOFFSETFROM:-0500
TZOFFSETTO:-0400
TZNAME:EDT
DTSTART:20270314T070000
END:DAYLIGHT
BEGIN:STANDARD
TZOFFSETFROM:-0400
TZOFFSETTO:-0500
TZNAME:EST
DTSTART:20271107T060000
END:STANDARD
END:VTIMEZONE
BEGIN:VEVENT
DTSTART;TZID=America/New_York:20260423T100000
DTEND;TZID=America/New_York:20260423T104500
DTSTAMP:20260423T140806
CREATED:20251221T001326Z
LAST-MODIFIED:20260420T151345Z
UID:10001116-1776938400-1776941100@turtlebooks.store
SUMMARY:Storytime Play Group
DESCRIPTION:Read-aloud\, sing-along\, and arts ‘n crafts for toddlers through age 5.  No advance registration required.
URL:https://turtlebooks.store/event/storytime-play-group/2026-04-23/
LOCATION:Turtle Books\, 224 Washington St\, Brookline\, MA\, 02445\, United States
CATEGORIES:Pre-readers
ATTACH;FMTTYPE=image/png:https://turtlebooks.store/wp-content/uploads/2025/12/PLAYGROUP-FOR-SMALL-CHILDREN.png
END:VEVENT
BEGIN:VEVENT
DTSTART;TZID=America/New_York:20260423T140000
DTEND;TZID=America/New_York:20260423T160000
DTSTAMP:20260423T140806
CREATED:20260410T185635Z
LAST-MODIFIED:20260410T185635Z
UID:10001468-1776952800-1776960000@turtlebooks.store
SUMMARY:Vacation Week - Graphic Novel Drawing Workshop
DESCRIPTION:Special vacation-week\, drop-in class of our graphic novel drawing workshop.
URL:https://turtlebooks.store/event/vacation-week-graphic-novel-drawing-workshop/
LOCATION:Turtle Books\, 224 Washington St\, Brookline\, MA\, 02445\, United States
CATEGORIES:Readers
END:VEVENT
END:VCALENDAR