BEGIN:VCALENDAR
VERSION:2.0
PRODID:-//Turtle Books - ECPv6.15.20//NONSGML v1.0//EN
CALSCALE:GREGORIAN
METHOD:PUBLISH
X-ORIGINAL-URL:https://turtlebooks.store
X-WR-CALDESC:Events for Turtle Books
REFRESH-INTERVAL;VALUE=DURATION:PT1H
X-Robots-Tag:noindex
X-PUBLISHED-TTL:PT1H
BEGIN:VTIMEZONE
TZID:America/New_York
BEGIN:DAYLIGHT
TZOFFSETFROM:-0500
TZOFFSETTO:-0400
TZNAME:EDT
DTSTART:20250309T070000
END:DAYLIGHT
BEGIN:STANDARD
TZOFFSETFROM:-0400
TZOFFSETTO:-0500
TZNAME:EST
DTSTART:20251102T060000
END:STANDARD
BEGIN:DAYLIGHT
TZOFFSETFROM:-0500
TZOFFSETTO:-0400
TZNAME:EDT
DTSTART:20260308T070000
END:DAYLIGHT
BEGIN:STANDARD
TZOFFSETFROM:-0400
TZOFFSETTO:-0500
TZNAME:EST
DTSTART:20261101T060000
END:STANDARD
BEGIN:DAYLIGHT
TZOFFSETFROM:-0500
TZOFFSETTO:-0400
TZNAME:EDT
DTSTART:20270314T070000
END:DAYLIGHT
BEGIN:STANDARD
TZOFFSETFROM:-0400
TZOFFSETTO:-0500
TZNAME:EST
DTSTART:20271107T060000
END:STANDARD
END:VTIMEZONE
BEGIN:VEVENT
DTSTART;TZID=America/New_York:20260517T150000
DTEND;TZID=America/New_York:20260517T160000
DTSTAMP:20260424T080859
CREATED:20260324T195521Z
LAST-MODIFIED:20260324T195521Z
UID:10001447-1779030000-1779033600@turtlebooks.store
SUMMARY:Graphic Novel Workshop 5/17 3PM
DESCRIPTION:Have you ever thought of creating your own graphic novel?  Join us for a weekly illustrator’s workshop with Dena Bach. Class is for first grade and up. (https://denabach.mystrikingly.com/).
URL:https://turtlebooks.store/event/graphic-novel-workshop-5-17-3pm/
LOCATION:Turtle Books\, 224 Washington St\, Brookline\, MA\, 02445\, United States
CATEGORIES:Readers
END:VEVENT
BEGIN:VEVENT
DTSTART;TZID=America/New_York:20260517T161500
DTEND;TZID=America/New_York:20260517T171500
DTSTAMP:20260424T080859
CREATED:20260324T195553Z
LAST-MODIFIED:20260324T195553Z
UID:10001448-1779034500-1779038100@turtlebooks.store
SUMMARY:Graphic Novel Workshop 5/17 4:15PM
DESCRIPTION:Have you ever thought of creating your own graphic novel?  Join us for a weekly illustrator’s workshop with Dena Bach. Class is for first grade and up. (https://denabach.mystrikingly.com/).
URL:https://turtlebooks.store/event/graphic-novel-workshop-5-17-415pm/
LOCATION:Turtle Books\, 224 Washington St\, Brookline\, MA\, 02445\, United States
CATEGORIES:Readers
END:VEVENT
BEGIN:VEVENT
DTSTART;TZID=America/New_York:20260520T150000
DTEND;TZID=America/New_York:20260520T160000
DTSTAMP:20260424T080900
CREATED:20251221T000534Z
LAST-MODIFIED:20260403T212114Z
UID:10001463-1779289200-1779292800@turtlebooks.store
SUMMARY:Tales-To-Tails Book Buddy Group
DESCRIPTION:A weekly reading group for 1st to 3rd graders\, for children that love to read and for new or reluctant readers.  We’ll be reading books about dogs to a real-live dog.
URL:https://turtlebooks.store/event/tales-to-tails-book-buddy-group/2026-05-20/
LOCATION:Turtle Books\, 224 Washington St\, Brookline\, MA\, 02445\, United States
CATEGORIES:Readers
ATTACH;FMTTYPE=image/png:https://turtlebooks.store/wp-content/uploads/2025/12/Buddies-landscape.png
END:VEVENT
BEGIN:VEVENT
DTSTART;TZID=America/New_York:20260527T150000
DTEND;TZID=America/New_York:20260527T160000
DTSTAMP:20260424T080900
CREATED:20251221T000534Z
LAST-MODIFIED:20260403T212114Z
UID:10001464-1779894000-1779897600@turtlebooks.store
SUMMARY:Tales-To-Tails Book Buddy Group
DESCRIPTION:A weekly reading group for 1st to 3rd graders\, for children that love to read and for new or reluctant readers.  We’ll be reading books about dogs to a real-live dog.
URL:https://turtlebooks.store/event/tales-to-tails-book-buddy-group/2026-05-27/
LOCATION:Turtle Books\, 224 Washington St\, Brookline\, MA\, 02445\, United States
CATEGORIES:Readers
ATTACH;FMTTYPE=image/png:https://turtlebooks.store/wp-content/uploads/2025/12/Buddies-landscape.png
END:VEVENT
BEGIN:VEVENT
DTSTART;TZID=America/New_York:20260530T100000
DTEND;TZID=America/New_York:20260530T110000
DTSTAMP:20260424T080900
CREATED:20251222T201822Z
LAST-MODIFIED:20260312T213718Z
UID:10000040-1780135200-1780138800@turtlebooks.store
SUMMARY:Mia Wenjen (Traveling Taco\, Fortune Cookies for Everyone!) and Kathleen Choi (Giving Thanks with Halmoni)
DESCRIPTION:Mia and Kathleen will read from some of their favorite books.  Mia has offered to help kids learn fortune cookie origami and Kathleen will do Bojagi Wrapping Art.  Don’t know what it is?  Come and find out.
URL:https://turtlebooks.store/event/mia-wenjen-author-of-sumo-joe-fortune-cookies-for-everyone-and-others-reads-from-her-favorite-books/
LOCATION:MA
CATEGORIES:Readers
ATTACH;FMTTYPE=image/png:https://turtlebooks.store/wp-content/uploads/2025/12/Mia-Wenjen-K-Choi.png
END:VEVENT
BEGIN:VEVENT
DTSTART;TZID=America/New_York:20260530T140000
DTEND;TZID=America/New_York:20260530T150000
DTSTAMP:20260424T080900
CREATED:20260322T163104Z
LAST-MODIFIED:20260322T193112Z
UID:10001431-1780149600-1780153200@turtlebooks.store
SUMMARY:Anansi Stories w/ Jim Swain
DESCRIPTION:
URL:https://turtlebooks.store/event/story-time-w-jim-swain/
LOCATION:Turtle Books\, 224 Washington St\, Brookline\, MA\, 02445\, United States
CATEGORIES:Readers
ATTACH;FMTTYPE=image/png:https://turtlebooks.store/wp-content/uploads/2026/03/Jim-Swain-Anansi-Stories-1.png
END:VEVENT
BEGIN:VEVENT
DTSTART;TZID=America/New_York:20260531T140000
DTEND;TZID=America/New_York:20260531T153000
DTSTAMP:20260424T080900
CREATED:20260312T215207Z
LAST-MODIFIED:20260420T145038Z
UID:10001148-1780236000-1780241400@turtlebooks.store
SUMMARY:Phoebe Sinclair reads from Confessions of a Candy Snatcher + Zine Workshop
DESCRIPTION:
URL:https://turtlebooks.store/event/phoebe-sinclair-reads-from-confessions-of-a-candy-snatcher-zine-workshop/
LOCATION:Turtle Books\, 224 Washington St\, Brookline\, MA\, 02445\, United States
CATEGORIES:Readers
ATTACH;FMTTYPE=image/png:https://turtlebooks.store/wp-content/uploads/2026/03/Middle-to-Older-Grades-Recommened.png
END:VEVENT
BEGIN:VEVENT
DTSTART;TZID=America/New_York:20260531T150000
DTEND;TZID=America/New_York:20260531T160000
DTSTAMP:20260424T080900
CREATED:20260324T200105Z
LAST-MODIFIED:20260324T200105Z
UID:10001451-1780239600-1780243200@turtlebooks.store
SUMMARY:Graphic Novel Workshop 5/31 3PM
DESCRIPTION:Have you ever thought of creating your own graphic novel?  Join us for a weekly illustrator’s workshop with Dena Bach. Class is for first grade and up. (https://denabach.mystrikingly.com/).
URL:https://turtlebooks.store/event/graphic-novel-workshop-5-31-3pm/
LOCATION:Turtle Books\, 224 Washington St\, Brookline\, MA\, 02445\, United States
CATEGORIES:Readers
END:VEVENT
BEGIN:VEVENT
DTSTART;TZID=America/New_York:20260531T161500
DTEND;TZID=America/New_York:20260531T171500
DTSTAMP:20260424T080900
CREATED:20260324T200133Z
LAST-MODIFIED:20260324T200133Z
UID:10001452-1780244100-1780247700@turtlebooks.store
SUMMARY:Graphic Novel Workshop 5/31 4:15PM
DESCRIPTION:Have you ever thought of creating your own graphic novel?  Join us for a weekly illustrator’s workshop with Dena Bach. Class is for first grade and up. (https://denabach.mystrikingly.com/).
URL:https://turtlebooks.store/event/graphic-novel-workshop-5-31-415pm/
LOCATION:Turtle Books\, 224 Washington St\, Brookline\, MA\, 02445\, United States
CATEGORIES:Readers
END:VEVENT
BEGIN:VEVENT
DTSTART;TZID=America/New_York:20260603T150000
DTEND;TZID=America/New_York:20260603T160000
DTSTAMP:20260424T080900
CREATED:20251221T000534Z
LAST-MODIFIED:20260403T212114Z
UID:10001465-1780498800-1780502400@turtlebooks.store
SUMMARY:Tales-To-Tails Book Buddy Group
DESCRIPTION:A weekly reading group for 1st to 3rd graders\, for children that love to read and for new or reluctant readers.  We’ll be reading books about dogs to a real-live dog.
URL:https://turtlebooks.store/event/tales-to-tails-book-buddy-group/2026-06-03/
LOCATION:Turtle Books\, 224 Washington St\, Brookline\, MA\, 02445\, United States
CATEGORIES:Readers
ATTACH;FMTTYPE=image/png:https://turtlebooks.store/wp-content/uploads/2025/12/Buddies-landscape.png
END:VEVENT
BEGIN:VEVENT
DTSTART;TZID=America/New_York:20260613T140000
DTEND;TZID=America/New_York:20260613T153000
DTSTAMP:20260424T080900
CREATED:20260326T201842Z
LAST-MODIFIED:20260403T211617Z
UID:10001453-1781359200-1781364600@turtlebooks.store
SUMMARY:Sy Montgomery and Matt Patterson Discuss Turtles
DESCRIPTION:Sy Montgomery and Matt Patterson\, authors of “The True and Lucky Life of a Turtle” and “The Book of Turtles” will be discussing their work.
URL:https://turtlebooks.store/event/sy-montgomery-and-matt-patterson-discuss-turtles/
LOCATION:Turtle Books\, 224 Washington St\, Brookline\, MA\, 02445\, United States
CATEGORIES:Readers
ATTACH;FMTTYPE=image/png:https://turtlebooks.store/wp-content/uploads/2026/03/MontgomeryPatterson-Event.png
END:VEVENT
END:VCALENDAR