BEGIN:VCALENDAR
VERSION:2.0
PRODID:-//Turtle Books - ECPv6.15.20//NONSGML v1.0//EN
CALSCALE:GREGORIAN
METHOD:PUBLISH
X-ORIGINAL-URL:https://turtlebooks.store
X-WR-CALDESC:Events for Turtle Books
REFRESH-INTERVAL;VALUE=DURATION:PT1H
X-Robots-Tag:noindex
X-PUBLISHED-TTL:PT1H
BEGIN:VTIMEZONE
TZID:America/New_York
BEGIN:DAYLIGHT
TZOFFSETFROM:-0500
TZOFFSETTO:-0400
TZNAME:EDT
DTSTART:20250309T070000
END:DAYLIGHT
BEGIN:STANDARD
TZOFFSETFROM:-0400
TZOFFSETTO:-0500
TZNAME:EST
DTSTART:20251102T060000
END:STANDARD
BEGIN:DAYLIGHT
TZOFFSETFROM:-0500
TZOFFSETTO:-0400
TZNAME:EDT
DTSTART:20260308T070000
END:DAYLIGHT
BEGIN:STANDARD
TZOFFSETFROM:-0400
TZOFFSETTO:-0500
TZNAME:EST
DTSTART:20261101T060000
END:STANDARD
BEGIN:DAYLIGHT
TZOFFSETFROM:-0500
TZOFFSETTO:-0400
TZNAME:EDT
DTSTART:20270314T070000
END:DAYLIGHT
BEGIN:STANDARD
TZOFFSETFROM:-0400
TZOFFSETTO:-0500
TZNAME:EST
DTSTART:20271107T060000
END:STANDARD
END:VTIMEZONE
BEGIN:VEVENT
DTSTART;VALUE=DATE:20260706
DTEND;VALUE=DATE:20260707
DTSTAMP:20260424T100517
CREATED:20260102T061143Z
LAST-MODIFIED:20260331T221957Z
UID:10001181-1783296000-1783382399@turtlebooks.store
SUMMARY:We're Closed
DESCRIPTION:
URL:https://turtlebooks.store/event/were-closed/2026-07-06/
LOCATION:Turtle Books\, 224 Washington St\, Brookline\, MA\, 02445\, United States
END:VEVENT
BEGIN:VEVENT
DTSTART;VALUE=DATE:20260713
DTEND;VALUE=DATE:20260714
DTSTAMP:20260424T100517
CREATED:20260102T061143Z
LAST-MODIFIED:20260331T221957Z
UID:10001182-1783900800-1783987199@turtlebooks.store
SUMMARY:We're Closed
DESCRIPTION:
URL:https://turtlebooks.store/event/were-closed/2026-07-13/
LOCATION:Turtle Books\, 224 Washington St\, Brookline\, MA\, 02445\, United States
END:VEVENT
BEGIN:VEVENT
DTSTART;VALUE=DATE:20260720
DTEND;VALUE=DATE:20260721
DTSTAMP:20260424T100517
CREATED:20260102T061143Z
LAST-MODIFIED:20260331T221957Z
UID:10001183-1784505600-1784591999@turtlebooks.store
SUMMARY:We're Closed
DESCRIPTION:
URL:https://turtlebooks.store/event/were-closed/2026-07-20/
LOCATION:Turtle Books\, 224 Washington St\, Brookline\, MA\, 02445\, United States
END:VEVENT
BEGIN:VEVENT
DTSTART;VALUE=DATE:20260727
DTEND;VALUE=DATE:20260728
DTSTAMP:20260424T100517
CREATED:20260102T061143Z
LAST-MODIFIED:20260331T221957Z
UID:10001184-1785110400-1785196799@turtlebooks.store
SUMMARY:We're Closed
DESCRIPTION:
URL:https://turtlebooks.store/event/were-closed/2026-07-27/
LOCATION:Turtle Books\, 224 Washington St\, Brookline\, MA\, 02445\, United States
END:VEVENT
END:VCALENDAR