BEGIN:VCALENDAR
VERSION:2.0
PRODID:-//Turtle Books - ECPv6.15.20//NONSGML v1.0//EN
CALSCALE:GREGORIAN
METHOD:PUBLISH
X-ORIGINAL-URL:https://turtlebooks.store
X-WR-CALDESC:Events for Turtle Books
REFRESH-INTERVAL;VALUE=DURATION:PT1H
X-Robots-Tag:noindex
X-PUBLISHED-TTL:PT1H
BEGIN:VTIMEZONE
TZID:America/New_York
BEGIN:DAYLIGHT
TZOFFSETFROM:-0500
TZOFFSETTO:-0400
TZNAME:EDT
DTSTART:20260308T070000
END:DAYLIGHT
BEGIN:STANDARD
TZOFFSETFROM:-0400
TZOFFSETTO:-0500
TZNAME:EST
DTSTART:20261101T060000
END:STANDARD
BEGIN:DAYLIGHT
TZOFFSETFROM:-0500
TZOFFSETTO:-0400
TZNAME:EDT
DTSTART:20270314T070000
END:DAYLIGHT
BEGIN:STANDARD
TZOFFSETFROM:-0400
TZOFFSETTO:-0500
TZNAME:EST
DTSTART:20271107T060000
END:STANDARD
BEGIN:DAYLIGHT
TZOFFSETFROM:-0500
TZOFFSETTO:-0400
TZNAME:EDT
DTSTART:20280312T070000
END:DAYLIGHT
BEGIN:STANDARD
TZOFFSETFROM:-0400
TZOFFSETTO:-0500
TZNAME:EST
DTSTART:20281105T060000
END:STANDARD
END:VTIMEZONE
BEGIN:VEVENT
DTSTART;VALUE=DATE:20270405
DTEND;VALUE=DATE:20270406
DTSTAMP:20260425T080451
CREATED:20260102T061143Z
LAST-MODIFIED:20260331T221957Z
UID:10001220-1806883200-1806969599@turtlebooks.store
SUMMARY:We're Closed
DESCRIPTION:
URL:https://turtlebooks.store/event/were-closed/2027-04-05/
LOCATION:Turtle Books\, 224 Washington St\, Brookline\, MA\, 02445\, United States
END:VEVENT
BEGIN:VEVENT
DTSTART;VALUE=DATE:20270412
DTEND;VALUE=DATE:20270413
DTSTAMP:20260425T080451
CREATED:20260102T061143Z
LAST-MODIFIED:20260331T221957Z
UID:10001221-1807488000-1807574399@turtlebooks.store
SUMMARY:We're Closed
DESCRIPTION:
URL:https://turtlebooks.store/event/were-closed/2027-04-12/
LOCATION:Turtle Books\, 224 Washington St\, Brookline\, MA\, 02445\, United States
END:VEVENT
BEGIN:VEVENT
DTSTART;VALUE=DATE:20270419
DTEND;VALUE=DATE:20270420
DTSTAMP:20260425T080451
CREATED:20260102T061143Z
LAST-MODIFIED:20260331T221957Z
UID:10001222-1808092800-1808179199@turtlebooks.store
SUMMARY:We're Closed
DESCRIPTION:
URL:https://turtlebooks.store/event/were-closed/2027-04-19/
LOCATION:Turtle Books\, 224 Washington St\, Brookline\, MA\, 02445\, United States
END:VEVENT
BEGIN:VEVENT
DTSTART;VALUE=DATE:20270426
DTEND;VALUE=DATE:20270427
DTSTAMP:20260425T080451
CREATED:20260102T061143Z
LAST-MODIFIED:20260331T221957Z
UID:10001223-1808697600-1808783999@turtlebooks.store
SUMMARY:We're Closed
DESCRIPTION:
URL:https://turtlebooks.store/event/were-closed/2027-04-26/
LOCATION:Turtle Books\, 224 Washington St\, Brookline\, MA\, 02445\, United States
END:VEVENT
END:VCALENDAR