BEGIN:VCALENDAR
VERSION:2.0
PRODID:-//Turtle Books - ECPv6.15.20//NONSGML v1.0//EN
CALSCALE:GREGORIAN
METHOD:PUBLISH
X-WR-CALNAME:Turtle Books
X-ORIGINAL-URL:https://turtlebooks.store
X-WR-CALDESC:Events for Turtle Books
REFRESH-INTERVAL;VALUE=DURATION:PT1H
X-Robots-Tag:noindex
X-PUBLISHED-TTL:PT1H
BEGIN:VTIMEZONE
TZID:America/New_York
BEGIN:DAYLIGHT
TZOFFSETFROM:-0500
TZOFFSETTO:-0400
TZNAME:EDT
DTSTART:20270314T070000
END:DAYLIGHT
BEGIN:STANDARD
TZOFFSETFROM:-0400
TZOFFSETTO:-0500
TZNAME:EST
DTSTART:20271107T060000
END:STANDARD
BEGIN:DAYLIGHT
TZOFFSETFROM:-0500
TZOFFSETTO:-0400
TZNAME:EDT
DTSTART:20280312T070000
END:DAYLIGHT
BEGIN:STANDARD
TZOFFSETFROM:-0400
TZOFFSETTO:-0500
TZNAME:EST
DTSTART:20281105T060000
END:STANDARD
BEGIN:DAYLIGHT
TZOFFSETFROM:-0500
TZOFFSETTO:-0400
TZNAME:EDT
DTSTART:20290311T070000
END:DAYLIGHT
BEGIN:STANDARD
TZOFFSETFROM:-0400
TZOFFSETTO:-0500
TZNAME:EST
DTSTART:20291104T060000
END:STANDARD
END:VTIMEZONE
BEGIN:VEVENT
DTSTART;VALUE=DATE:20280904
DTEND;VALUE=DATE:20280905
DTSTAMP:20260424T091331
CREATED:20260102T061143Z
LAST-MODIFIED:20260331T221957Z
UID:10001294-1851638400-1851724799@turtlebooks.store
SUMMARY:We're Closed
DESCRIPTION:
URL:https://turtlebooks.store/event/were-closed/2028-09-04/
LOCATION:Turtle Books\, 224 Washington St\, Brookline\, MA\, 02445\, United States
END:VEVENT
BEGIN:VEVENT
DTSTART;VALUE=DATE:20280911
DTEND;VALUE=DATE:20280912
DTSTAMP:20260424T091331
CREATED:20260102T061143Z
LAST-MODIFIED:20260331T221957Z
UID:10001295-1852243200-1852329599@turtlebooks.store
SUMMARY:We're Closed
DESCRIPTION:
URL:https://turtlebooks.store/event/were-closed/2028-09-11/
LOCATION:Turtle Books\, 224 Washington St\, Brookline\, MA\, 02445\, United States
END:VEVENT
BEGIN:VEVENT
DTSTART;VALUE=DATE:20280918
DTEND;VALUE=DATE:20280919
DTSTAMP:20260424T091331
CREATED:20260102T061143Z
LAST-MODIFIED:20260331T221957Z
UID:10001296-1852848000-1852934399@turtlebooks.store
SUMMARY:We're Closed
DESCRIPTION:
URL:https://turtlebooks.store/event/were-closed/2028-09-18/
LOCATION:Turtle Books\, 224 Washington St\, Brookline\, MA\, 02445\, United States
END:VEVENT
BEGIN:VEVENT
DTSTART;VALUE=DATE:20280925
DTEND;VALUE=DATE:20280926
DTSTAMP:20260424T091331
CREATED:20260102T061143Z
LAST-MODIFIED:20260331T221957Z
UID:10001297-1853452800-1853539199@turtlebooks.store
SUMMARY:We're Closed
DESCRIPTION:
URL:https://turtlebooks.store/event/were-closed/2028-09-25/
LOCATION:Turtle Books\, 224 Washington St\, Brookline\, MA\, 02445\, United States
END:VEVENT
END:VCALENDAR