BEGIN:VCALENDAR
VERSION:2.0
PRODID:-//Turtle Books - ECPv6.15.20//NONSGML v1.0//EN
CALSCALE:GREGORIAN
METHOD:PUBLISH
X-ORIGINAL-URL:https://turtlebooks.store
X-WR-CALDESC:Events for Turtle Books
REFRESH-INTERVAL;VALUE=DURATION:PT1H
X-Robots-Tag:noindex
X-PUBLISHED-TTL:PT1H
BEGIN:VTIMEZONE
TZID:America/New_York
BEGIN:DAYLIGHT
TZOFFSETFROM:-0500
TZOFFSETTO:-0400
TZNAME:EDT
DTSTART:20270314T070000
END:DAYLIGHT
BEGIN:STANDARD
TZOFFSETFROM:-0400
TZOFFSETTO:-0500
TZNAME:EST
DTSTART:20271107T060000
END:STANDARD
BEGIN:DAYLIGHT
TZOFFSETFROM:-0500
TZOFFSETTO:-0400
TZNAME:EDT
DTSTART:20280312T070000
END:DAYLIGHT
BEGIN:STANDARD
TZOFFSETFROM:-0400
TZOFFSETTO:-0500
TZNAME:EST
DTSTART:20281105T060000
END:STANDARD
BEGIN:DAYLIGHT
TZOFFSETFROM:-0500
TZOFFSETTO:-0400
TZNAME:EDT
DTSTART:20290311T070000
END:DAYLIGHT
BEGIN:STANDARD
TZOFFSETFROM:-0400
TZOFFSETTO:-0500
TZNAME:EST
DTSTART:20291104T060000
END:STANDARD
END:VTIMEZONE
BEGIN:VEVENT
DTSTART;VALUE=DATE:20281002
DTEND;VALUE=DATE:20281003
DTSTAMP:20260424T110632
CREATED:20260102T061143Z
LAST-MODIFIED:20260331T221957Z
UID:10001298-1854057600-1854143999@turtlebooks.store
SUMMARY:We're Closed
DESCRIPTION:
URL:https://turtlebooks.store/event/were-closed/2028-10-02/
LOCATION:Turtle Books\, 224 Washington St\, Brookline\, MA\, 02445\, United States
END:VEVENT
BEGIN:VEVENT
DTSTART;VALUE=DATE:20281009
DTEND;VALUE=DATE:20281010
DTSTAMP:20260424T110632
CREATED:20260102T061143Z
LAST-MODIFIED:20260331T221957Z
UID:10001299-1854662400-1854748799@turtlebooks.store
SUMMARY:We're Closed
DESCRIPTION:
URL:https://turtlebooks.store/event/were-closed/2028-10-09/
LOCATION:Turtle Books\, 224 Washington St\, Brookline\, MA\, 02445\, United States
END:VEVENT
BEGIN:VEVENT
DTSTART;VALUE=DATE:20281016
DTEND;VALUE=DATE:20281017
DTSTAMP:20260424T110632
CREATED:20260102T061143Z
LAST-MODIFIED:20260331T221957Z
UID:10001300-1855267200-1855353599@turtlebooks.store
SUMMARY:We're Closed
DESCRIPTION:
URL:https://turtlebooks.store/event/were-closed/2028-10-16/
LOCATION:Turtle Books\, 224 Washington St\, Brookline\, MA\, 02445\, United States
END:VEVENT
BEGIN:VEVENT
DTSTART;VALUE=DATE:20281023
DTEND;VALUE=DATE:20281024
DTSTAMP:20260424T110632
CREATED:20260102T061143Z
LAST-MODIFIED:20260331T221957Z
UID:10001301-1855872000-1855958399@turtlebooks.store
SUMMARY:We're Closed
DESCRIPTION:
URL:https://turtlebooks.store/event/were-closed/2028-10-23/
LOCATION:Turtle Books\, 224 Washington St\, Brookline\, MA\, 02445\, United States
END:VEVENT
BEGIN:VEVENT
DTSTART;VALUE=DATE:20281030
DTEND;VALUE=DATE:20281031
DTSTAMP:20260424T110632
CREATED:20260102T061143Z
LAST-MODIFIED:20260331T221957Z
UID:10001302-1856476800-1856563199@turtlebooks.store
SUMMARY:We're Closed
DESCRIPTION:
URL:https://turtlebooks.store/event/were-closed/2028-10-30/
LOCATION:Turtle Books\, 224 Washington St\, Brookline\, MA\, 02445\, United States
END:VEVENT
END:VCALENDAR