BEGIN:VCALENDAR
VERSION:2.0
PRODID:-//Turtle Books - ECPv6.15.20//NONSGML v1.0//EN
CALSCALE:GREGORIAN
METHOD:PUBLISH
X-ORIGINAL-URL:https://turtlebooks.store
X-WR-CALDESC:Events for Turtle Books
REFRESH-INTERVAL;VALUE=DURATION:PT1H
X-Robots-Tag:noindex
X-PUBLISHED-TTL:PT1H
BEGIN:VTIMEZONE
TZID:America/New_York
BEGIN:DAYLIGHT
TZOFFSETFROM:-0500
TZOFFSETTO:-0400
TZNAME:EDT
DTSTART:20280312T070000
END:DAYLIGHT
BEGIN:STANDARD
TZOFFSETFROM:-0400
TZOFFSETTO:-0500
TZNAME:EST
DTSTART:20281105T060000
END:STANDARD
BEGIN:DAYLIGHT
TZOFFSETFROM:-0500
TZOFFSETTO:-0400
TZNAME:EDT
DTSTART:20290311T070000
END:DAYLIGHT
BEGIN:STANDARD
TZOFFSETFROM:-0400
TZOFFSETTO:-0500
TZNAME:EST
DTSTART:20291104T060000
END:STANDARD
BEGIN:DAYLIGHT
TZOFFSETFROM:-0500
TZOFFSETTO:-0400
TZNAME:EDT
DTSTART:20300310T070000
END:DAYLIGHT
BEGIN:STANDARD
TZOFFSETFROM:-0400
TZOFFSETTO:-0500
TZNAME:EST
DTSTART:20301103T060000
END:STANDARD
END:VTIMEZONE
BEGIN:VEVENT
DTSTART;VALUE=DATE:20290205
DTEND;VALUE=DATE:20290206
DTSTAMP:20260425T094539
CREATED:20260102T061143Z
LAST-MODIFIED:20260331T221957Z
UID:10001316-1864944000-1865030399@turtlebooks.store
SUMMARY:We're Closed
DESCRIPTION:
URL:https://turtlebooks.store/event/were-closed/2029-02-05/
LOCATION:Turtle Books\, 224 Washington St\, Brookline\, MA\, 02445\, United States
END:VEVENT
BEGIN:VEVENT
DTSTART;VALUE=DATE:20290212
DTEND;VALUE=DATE:20290213
DTSTAMP:20260425T094539
CREATED:20260102T061143Z
LAST-MODIFIED:20260331T221957Z
UID:10001317-1865548800-1865635199@turtlebooks.store
SUMMARY:We're Closed
DESCRIPTION:
URL:https://turtlebooks.store/event/were-closed/2029-02-12/
LOCATION:Turtle Books\, 224 Washington St\, Brookline\, MA\, 02445\, United States
END:VEVENT
BEGIN:VEVENT
DTSTART;VALUE=DATE:20290219
DTEND;VALUE=DATE:20290220
DTSTAMP:20260425T094539
CREATED:20260102T061143Z
LAST-MODIFIED:20260331T221957Z
UID:10001318-1866153600-1866239999@turtlebooks.store
SUMMARY:We're Closed
DESCRIPTION:
URL:https://turtlebooks.store/event/were-closed/2029-02-19/
LOCATION:Turtle Books\, 224 Washington St\, Brookline\, MA\, 02445\, United States
END:VEVENT
BEGIN:VEVENT
DTSTART;VALUE=DATE:20290226
DTEND;VALUE=DATE:20290227
DTSTAMP:20260425T094539
CREATED:20260102T061143Z
LAST-MODIFIED:20260331T221957Z
UID:10001319-1866758400-1866844799@turtlebooks.store
SUMMARY:We're Closed
DESCRIPTION:
URL:https://turtlebooks.store/event/were-closed/2029-02-26/
LOCATION:Turtle Books\, 224 Washington St\, Brookline\, MA\, 02445\, United States
END:VEVENT
END:VCALENDAR