BEGIN:VCALENDAR
VERSION:2.0
PRODID:-//Turtle Books - ECPv6.15.20//NONSGML v1.0//EN
CALSCALE:GREGORIAN
METHOD:PUBLISH
X-ORIGINAL-URL:https://turtlebooks.store
X-WR-CALDESC:Events for Turtle Books
REFRESH-INTERVAL;VALUE=DURATION:PT1H
X-Robots-Tag:noindex
X-PUBLISHED-TTL:PT1H
BEGIN:VTIMEZONE
TZID:America/New_York
BEGIN:DAYLIGHT
TZOFFSETFROM:-0500
TZOFFSETTO:-0400
TZNAME:EDT
DTSTART:20250309T070000
END:DAYLIGHT
BEGIN:STANDARD
TZOFFSETFROM:-0400
TZOFFSETTO:-0500
TZNAME:EST
DTSTART:20251102T060000
END:STANDARD
BEGIN:DAYLIGHT
TZOFFSETFROM:-0500
TZOFFSETTO:-0400
TZNAME:EDT
DTSTART:20260308T070000
END:DAYLIGHT
BEGIN:STANDARD
TZOFFSETFROM:-0400
TZOFFSETTO:-0500
TZNAME:EST
DTSTART:20261101T060000
END:STANDARD
BEGIN:DAYLIGHT
TZOFFSETFROM:-0500
TZOFFSETTO:-0400
TZNAME:EDT
DTSTART:20270314T070000
END:DAYLIGHT
BEGIN:STANDARD
TZOFFSETFROM:-0400
TZOFFSETTO:-0500
TZNAME:EST
DTSTART:20271107T060000
END:STANDARD
END:VTIMEZONE
BEGIN:VEVENT
DTSTART;TZID=America/New_York:20260521T100000
DTEND;TZID=America/New_York:20260521T104500
DTSTAMP:20260424T131637
CREATED:20251221T001326Z
LAST-MODIFIED:20260420T151345Z
UID:10001484-1779357600-1779360300@turtlebooks.store
SUMMARY:Storytime Play Group
DESCRIPTION:Read-aloud\, sing-along\, and arts ‘n crafts for toddlers through age 5.  No advance registration required.
URL:https://turtlebooks.store/event/storytime-play-group/2026-05-21/
LOCATION:Turtle Books\, 224 Washington St\, Brookline\, MA\, 02445\, United States
CATEGORIES:Pre-readers
ATTACH;FMTTYPE=image/png:https://turtlebooks.store/wp-content/uploads/2025/12/PLAYGROUP-FOR-SMALL-CHILDREN.png
END:VEVENT
BEGIN:VEVENT
DTSTART;TZID=America/New_York:20260526T100000
DTEND;TZID=America/New_York:20260526T104500
DTSTAMP:20260424T131637
CREATED:20251221T001326Z
LAST-MODIFIED:20260420T151345Z
UID:10001485-1779789600-1779792300@turtlebooks.store
SUMMARY:Storytime Play Group
DESCRIPTION:Read-aloud\, sing-along\, and arts ‘n crafts for toddlers through age 5.  No advance registration required.
URL:https://turtlebooks.store/event/storytime-play-group/2026-05-26/
LOCATION:Turtle Books\, 224 Washington St\, Brookline\, MA\, 02445\, United States
CATEGORIES:Pre-readers
ATTACH;FMTTYPE=image/png:https://turtlebooks.store/wp-content/uploads/2025/12/PLAYGROUP-FOR-SMALL-CHILDREN.png
END:VEVENT
BEGIN:VEVENT
DTSTART;TZID=America/New_York:20260528T100000
DTEND;TZID=America/New_York:20260528T104500
DTSTAMP:20260424T131637
CREATED:20251221T001326Z
LAST-MODIFIED:20260420T151345Z
UID:10001486-1779962400-1779965100@turtlebooks.store
SUMMARY:Storytime Play Group
DESCRIPTION:Read-aloud\, sing-along\, and arts ‘n crafts for toddlers through age 5.  No advance registration required.
URL:https://turtlebooks.store/event/storytime-play-group/2026-05-28/
LOCATION:Turtle Books\, 224 Washington St\, Brookline\, MA\, 02445\, United States
CATEGORIES:Pre-readers
ATTACH;FMTTYPE=image/png:https://turtlebooks.store/wp-content/uploads/2025/12/PLAYGROUP-FOR-SMALL-CHILDREN.png
END:VEVENT
BEGIN:VEVENT
DTSTART;TZID=America/New_York:20260531T140000
DTEND;TZID=America/New_York:20260531T153000
DTSTAMP:20260424T131637
CREATED:20260312T215207Z
LAST-MODIFIED:20260420T145038Z
UID:10001148-1780236000-1780241400@turtlebooks.store
SUMMARY:Phoebe Sinclair reads from Confessions of a Candy Snatcher + Zine Workshop
DESCRIPTION:
URL:https://turtlebooks.store/event/phoebe-sinclair-reads-from-confessions-of-a-candy-snatcher-zine-workshop/
LOCATION:Turtle Books\, 224 Washington St\, Brookline\, MA\, 02445\, United States
CATEGORIES:Readers
ATTACH;FMTTYPE=image/png:https://turtlebooks.store/wp-content/uploads/2026/03/Middle-to-Older-Grades-Recommened.png
END:VEVENT
BEGIN:VEVENT
DTSTART;TZID=America/New_York:20260602T100000
DTEND;TZID=America/New_York:20260602T104500
DTSTAMP:20260424T131637
CREATED:20251221T001326Z
LAST-MODIFIED:20260420T151345Z
UID:10001487-1780394400-1780397100@turtlebooks.store
SUMMARY:Storytime Play Group
DESCRIPTION:Read-aloud\, sing-along\, and arts ‘n crafts for toddlers through age 5.  No advance registration required.
URL:https://turtlebooks.store/event/storytime-play-group/2026-06-02/
LOCATION:Turtle Books\, 224 Washington St\, Brookline\, MA\, 02445\, United States
CATEGORIES:Pre-readers
ATTACH;FMTTYPE=image/png:https://turtlebooks.store/wp-content/uploads/2025/12/PLAYGROUP-FOR-SMALL-CHILDREN.png
END:VEVENT
BEGIN:VEVENT
DTSTART;TZID=America/New_York:20260604T100000
DTEND;TZID=America/New_York:20260604T104500
DTSTAMP:20260424T131637
CREATED:20251221T001326Z
LAST-MODIFIED:20260420T151345Z
UID:10001488-1780567200-1780569900@turtlebooks.store
SUMMARY:Storytime Play Group
DESCRIPTION:Read-aloud\, sing-along\, and arts ‘n crafts for toddlers through age 5.  No advance registration required.
URL:https://turtlebooks.store/event/storytime-play-group/2026-06-04/
LOCATION:Turtle Books\, 224 Washington St\, Brookline\, MA\, 02445\, United States
CATEGORIES:Pre-readers
ATTACH;FMTTYPE=image/png:https://turtlebooks.store/wp-content/uploads/2025/12/PLAYGROUP-FOR-SMALL-CHILDREN.png
END:VEVENT
BEGIN:VEVENT
DTSTART;TZID=America/New_York:20260606T163000
DTEND;TZID=America/New_York:20260606T171500
DTSTAMP:20260424T131637
CREATED:20260307T204233Z
LAST-MODIFIED:20260422T130739Z
UID:10001142-1780763400-1780766100@turtlebooks.store
SUMMARY:7th / 8th Grade Book Club
DESCRIPTION:This book club will meet every other week to discuss a book.  The first book will be Framed by James Ponti.  We’ll choose the next book together.  The book store will have copies available of Framed for purchase\, or you can get it at your local library.  Once you register\, start reading the book so that you’ll be able to join the conversation.  Refreshments will be provided.  Tell you friends about it!  RSVP below . . .
URL:https://turtlebooks.store/event/7th-8th-grade-book-club-2/2026-06-06/
LOCATION:Turtle Books\, 224 Washington St\, Brookline\, MA\, 02445\, United States
CATEGORIES:Advanced Readers
END:VEVENT
BEGIN:VEVENT
DTSTART;TZID=America/New_York:20260609T100000
DTEND;TZID=America/New_York:20260609T104500
DTSTAMP:20260424T131637
CREATED:20251221T001326Z
LAST-MODIFIED:20260420T151345Z
UID:10001489-1780999200-1781001900@turtlebooks.store
SUMMARY:Storytime Play Group
DESCRIPTION:Read-aloud\, sing-along\, and arts ‘n crafts for toddlers through age 5.  No advance registration required.
URL:https://turtlebooks.store/event/storytime-play-group/2026-06-09/
LOCATION:Turtle Books\, 224 Washington St\, Brookline\, MA\, 02445\, United States
CATEGORIES:Pre-readers
ATTACH;FMTTYPE=image/png:https://turtlebooks.store/wp-content/uploads/2025/12/PLAYGROUP-FOR-SMALL-CHILDREN.png
END:VEVENT
BEGIN:VEVENT
DTSTART;TZID=America/New_York:20260611T100000
DTEND;TZID=America/New_York:20260611T104500
DTSTAMP:20260424T131637
CREATED:20251221T001326Z
LAST-MODIFIED:20260420T151345Z
UID:10001490-1781172000-1781174700@turtlebooks.store
SUMMARY:Storytime Play Group
DESCRIPTION:Read-aloud\, sing-along\, and arts ‘n crafts for toddlers through age 5.  No advance registration required.
URL:https://turtlebooks.store/event/storytime-play-group/2026-06-11/
LOCATION:Turtle Books\, 224 Washington St\, Brookline\, MA\, 02445\, United States
CATEGORIES:Pre-readers
ATTACH;FMTTYPE=image/png:https://turtlebooks.store/wp-content/uploads/2025/12/PLAYGROUP-FOR-SMALL-CHILDREN.png
END:VEVENT
BEGIN:VEVENT
DTSTART;TZID=America/New_York:20260616T100000
DTEND;TZID=America/New_York:20260616T104500
DTSTAMP:20260424T131637
CREATED:20251221T001326Z
LAST-MODIFIED:20260420T151345Z
UID:10001491-1781604000-1781606700@turtlebooks.store
SUMMARY:Storytime Play Group
DESCRIPTION:Read-aloud\, sing-along\, and arts ‘n crafts for toddlers through age 5.  No advance registration required.
URL:https://turtlebooks.store/event/storytime-play-group/2026-06-16/
LOCATION:Turtle Books\, 224 Washington St\, Brookline\, MA\, 02445\, United States
CATEGORIES:Pre-readers
ATTACH;FMTTYPE=image/png:https://turtlebooks.store/wp-content/uploads/2025/12/PLAYGROUP-FOR-SMALL-CHILDREN.png
END:VEVENT
BEGIN:VEVENT
DTSTART;TZID=America/New_York:20260618T100000
DTEND;TZID=America/New_York:20260618T104500
DTSTAMP:20260424T131637
CREATED:20251221T001326Z
LAST-MODIFIED:20260420T151345Z
UID:10001492-1781776800-1781779500@turtlebooks.store
SUMMARY:Storytime Play Group
DESCRIPTION:Read-aloud\, sing-along\, and arts ‘n crafts for toddlers through age 5.  No advance registration required.
URL:https://turtlebooks.store/event/storytime-play-group/2026-06-18/
LOCATION:Turtle Books\, 224 Washington St\, Brookline\, MA\, 02445\, United States
CATEGORIES:Pre-readers
ATTACH;FMTTYPE=image/png:https://turtlebooks.store/wp-content/uploads/2025/12/PLAYGROUP-FOR-SMALL-CHILDREN.png
END:VEVENT
BEGIN:VEVENT
DTSTART;TZID=America/New_York:20260623T100000
DTEND;TZID=America/New_York:20260623T104500
DTSTAMP:20260424T131637
CREATED:20251221T001326Z
LAST-MODIFIED:20260420T151345Z
UID:10001493-1782208800-1782211500@turtlebooks.store
SUMMARY:Storytime Play Group
DESCRIPTION:Read-aloud\, sing-along\, and arts ‘n crafts for toddlers through age 5.  No advance registration required.
URL:https://turtlebooks.store/event/storytime-play-group/2026-06-23/
LOCATION:Turtle Books\, 224 Washington St\, Brookline\, MA\, 02445\, United States
CATEGORIES:Pre-readers
ATTACH;FMTTYPE=image/png:https://turtlebooks.store/wp-content/uploads/2025/12/PLAYGROUP-FOR-SMALL-CHILDREN.png
END:VEVENT
BEGIN:VEVENT
DTSTART;TZID=America/New_York:20260625T100000
DTEND;TZID=America/New_York:20260625T104500
DTSTAMP:20260424T131637
CREATED:20251221T001326Z
LAST-MODIFIED:20260420T151345Z
UID:10001494-1782381600-1782384300@turtlebooks.store
SUMMARY:Storytime Play Group
DESCRIPTION:Read-aloud\, sing-along\, and arts ‘n crafts for toddlers through age 5.  No advance registration required.
URL:https://turtlebooks.store/event/storytime-play-group/2026-06-25/
LOCATION:Turtle Books\, 224 Washington St\, Brookline\, MA\, 02445\, United States
CATEGORIES:Pre-readers
ATTACH;FMTTYPE=image/png:https://turtlebooks.store/wp-content/uploads/2025/12/PLAYGROUP-FOR-SMALL-CHILDREN.png
END:VEVENT
END:VCALENDAR